Workbook
Name Recargos: INPC!$D$2:$D$2

Sheet Formato
A6: DECLARACION INFORMATIVA DEL DERECHO DE SANEAMIENTO AMBIENTAL HOSPEDAJE
A8: C. TESORERO MUNICIPAL:
A9: En cumplimiento con lo dispuesto en los artículos 135 Bis, 135, Ter, 135 Quater, 135 Quinquies, 135 Sixies, 135 Septies de la Ley de Hacienda del Municipio de Cozumel del Estado de Quintana Roo, me permito presentarle el pago de los Derechos de Saneamiento Ambiental, conforme a los siguientes:
A12: DATOS
A14: Registro Federal de Contribuyentes | C14: Apellido Paterno, Materno, Nombre (s), Razón o Denominación Social
A16: Nombre del establecimiento: | D16: Período
D17: MES | E17: AÑO
A18: Correo electrónico | D18: 10 | E18: 2025
A19: Domicilio Fiscal
A20: Calle | C20: Número Exterior | D20: Número Interior | E20: Código Postal
A22: Colonia | C22: Localidad | D22: Municipio | E22: Estado
C23: COZUMEL | D23: COZUMEL | E23: QUINTANA ROO
A24: Numero de Habitaciones del establecimiento (1) | B24: Numero de Habitaciones ocupadas (cuartos noche) durante el periodo (2) = sumatoria de habitaciones | D24: Porcentaje de ocupacion = (2/1 * numero de dias del periodo)
A26: 11 | B26: 200 | D26: =B26/(A26*B27) -> 0.36363636
A27: Días en el Período: | B27: 50
A29: CALCULO DEL DERECHO:
A30: Habitaciones Ocupadas (cuartos - noche) durante el periodo | D30: =B26 -> 200
A31: Tarifa(30% del valor de la U.M.A. por habitacion por noche de ocupacion) | D31: =Trabajo!H7*0.3 -> 33.942
A32: Derecho: | D32: =IF(Trabajo!I5="CORRECTO",D30*D31,"VERSION DE FORMATO INCORRECTO") -> 6788.4
A33: Actualización: | D33: =IF(Trabajo!G3="SI COBRO",(Formato!D32*Trabajo!C5)-Formato!D32,0) -> 90.059785
A34: Recargos: | D34: =IF(Trabajo!G3="SI COBRO",(Formato!D32+Formato!D33)*(Trabajo!D5/100),0) -> 505.56679
A35: Descuento de recargos por rezagos | D35: =IF(MONTH(TODAY())>=15,IF(Trabajo!G3="SI COBRO",(Formato!D32+Formato!D33)*(Trabajo!D5/100)*-1,0),0) -> 0
A36: Total a Pagar: | D36: =SUM(D32:E35) -> 7384.0266
A40: NOMBRE Y FIRMA DEL CONTRIBUYENTE O REPRESENTANTE LEGAL | D40: AUTORIZO
A41: DECLARO BAJO PROTESTA DE DECIR LA VERDAD Y BAJO MI ESTRICTA RESPONSABILIDAD QUE LOS DATOS PROPORCIONADOS EN ESTE FORMATO SON REALES | D41: L.C. JOSE SEBASTIAN HAU CHAN
D42: DIRECTOR DE INGRESOS
A43: =CONCATENATE("COZUMEL, QUINTANA ROO, A ",DAY(TODAY())," DE ", UPPER(TEXT(TODAY(),"MMMM"))," DE ",YEAR(TODAY())) -> COZUMEL, QUINTANA ROO, A 3 DE MARZO DE 2026
A45: En cumplimiento a Ley General de Protección de Datos Personales en Posesión de Sujetos Obligados y la Ley de Protección de Datos Personales en Posesión de Sujetos Obligados para el Estado de Quintana Roo, La Tesorería Municipal, por conducto de la Dirección de Ingresos, en su calidad de Sujeto Obligado que recaba y ejerce tratamiento de los datos personales que nos proporcione, emite lo siguiente: La Dirección de Ingresos del Municipio de Cozumel con domicilio en calle 13 sur s/n entre Av. Rafael E. Melgar y Gonzalo Guerrero, Colonia Andrés Quintana Roo, C.P. 77664 Ciudad de Cozumel, Quintana Roo; es el responsable del tratamiento de los datos personales que nos proporcione, los cuales serán protegidos de conformidad a lo dispuesto por la Ley General de Protección de Datos Personales en Posesión de los Sujetos Obligados y la Ley de Protección de Datos Personales en posesión de sujetos obligados para el Estado de Quintana Roo y demás normatividad que resulte aplicable. Los datos personales proporcionados por el propio contribuyente o en su caso el de su representante legal del mismo, a través de la Declaración del Derecho de Saneamiento Ambiental en el Formato de Declaración del Derecho de Saneamiento Ambiental, serán utilizados con la siguiente finalidad: Registrar y tramitar la Declaración del Derecho de saneamiento Ambiental. Para los fines antes señalados se solicitan los siguientes datos personales: Registro Federal de Contribuyentes (RFC), Numero de Licencia de Funcionamiento Municipal, Razón Social, Nombre del Establecimiento, Dirección Fiscal, Periodo que declara, Número de Habitaciones del Establecimiento, Número de Habitaciones Ocupadas (cuartos – noche) durante el periodo y Porcentaje de Ocupación, los datos proporcionados en la documentación que en su caso adjunte (podrían contener datos sensibles); datos contenidos en los documentos que presente; firma autógrafa del titular o en su caso el de su representante legal o en caso de no saber firmar, la huella digital. De manera adicional la información proporcionada podrá ser utilizada con fines estadísticos, la cual no estará asociada con el titular de los datos personales, por lo que no será posible identificarlo. En caso de que exista un cambio en este aviso de privacidad, lo haremos de su conocimiento de manera presencial en la Dirección de Ingresos del H. Ayuntamiento de Cozumel, o bien, lo puede consultar en nuestra página de internet http://cozumel.gob.mx

Sheet Trabajo
B2: CODIGO | C2: INPCMES | D2: TASARECMES | E2: #FILA | G2: BANDERA
A3: =YEAR(TODAY()) -> 2026 | B3: =CONCATENATE(IF(Formato!D18=12,Formato!E18+1,Formato!E18),IF(Formato!D18=12,1,Formato!D18+1)) -> 202511 | C3: =VLOOKUP(B3,INPC!A1:E87,5,0) -> 141.708 | D3: =VLOOKUP(B3,INPC!A1:E87,4,0) -> 1.47 | E3: =MATCH(B3,INPC!$A$1:$A$100,0)+1 -> 84 | F3: =VLOOKUP(B3,INPC!A1:E84,4,0) -> 1.47 | G3: =IF(Formato!E18=A3,IF(Formato!D18=A4,"NO COBRO",IF(Formato!D18=A4-1,IF(DAY(TODAY())<=18,"NO COBRO","SI COBRO"),"SI COBRO")),IF(Formato!D18=12,IF(A4=1,IF(DAY(TODAY())<=18,"NO COBRO","SI COBRO"),"SI COBRO"),"SI COBRO")) -> SI COBRO
A4: =MONTH(TODAY()) -> 3 | B4: =CONCATENATE(YEAR(TODAY()),MONTH(TODAY())) -> 20263 | C4: =IF(VLOOKUP(B4,INPC!A2:E87,5,0)=0,VLOOKUP(CONCATENATE(IF(MONTH(TODAY())=1,YEAR(TODAY())-1,YEAR(TODAY())),IF(MONTH(TODAY())=1,12,MONTH(TODAY())-1)),INPC!A2:E87,5,0),VLOOKUP(B4,INPC!A2:E87,5,0)) -> 143.588 | D4: =VLOOKUP(B4,INPC!A2:E87,4,0) -> 1.47 | E4: =MATCH(B4,INPC!$A$1:$A$100,0)+1 -> 88 | F4: =VLOOKUP(B4,INPC!A1:E94,4,0) -> 1.47 | I4: =IF(Formato!E18=A3,IF(Formato!D18<=A4-1,IF(DAY(TODAY())<=15,"NO COBRO","SI COBRO"),"NO COBRO"),IF(Formato!D18=12,IF(A4=1,IF(DAY(TODAY())<=15,"NO COBRO","SI COBRO"),"SI COBRO"),"SI COBRO")) -> SI COBRO
C5: =IF((C4/C3)<1,1,C4/C3) -> 1.0132667 | D5: =SUM(INDIRECT("INPC!D"&E3&":D"&E4)) -> 7.35 | H5: 2 versiones | I5: =IFERROR(IF(FIND(CONCATENATE("v",YEAR(TODAY()),TEXT(MONTH(TODAY()),"00")),CELL("nombrearchivo"),1),IF(DAY(TODAY())<=18,IFERROR(IF(FIND("_1",CELL("nombrearchivo"),1),"CORRECTO"),"INCORRECTO"),IF(DAY(TODAY())>=19,IFERROR(IF(FIND("_2",CELL("nombrearchivo"),1),"CORRECTO"),"INCORRECTO"),"INCORRECTO2"))),"INCORRECTO") -> CORRECTO
H6: 3 versiones | I6: =IFERROR(IF(FIND(CONCATENATE("v",YEAR(TODAY()),TEXT(MONTH(TODAY()),"00")),CELL("nombrearchivo"),1),IF(DAY(TODAY())<=10,IFERROR(IF(FIND("_1",CELL("nombrearchivo"),1),"CORRECTO"),"INCORRECTO"),IF(DAY(TODAY())<=17,IFERROR(IF(FIND("_2",CELL("nombrearchivo"),1),"CORRECTO"),"INCORRECTO"),IF(DAY(TODAY())>=18,IFERROR(IF(FIND("_3",CELL("nombrearchivo"),1),"CORRECTO"),"INCORRECTO"),"INCORRECTO2")))),"INCORRECTO") -> CORRECTO
B7: 1 | C7: 2019 | D7: Provisional | G7: =CONCATENATE(IF(Formato!D18=12,Formato!E18+1,Formato!E18),IF(Formato!D18=12,1,Formato!D18+1)) -> 202511 | H7: =VLOOKUP(G7,INPC!A1:G85,7,0) -> 113.14
B8: 2 | C8: 2020 | D8: Definitiva
B9: 3 | C9: 2021
B10: 4 | C10: 2022
B11: 5 | C11: 2023
B12: 6 | C12: 2024
B13: 7 | C13: 2025
B14: 8 | C14: 2026
B15: 9
B16: 10
B17: 11
B18: 12

Sheet INPC
B1: CveEjeTasa | C1: CveMesTasa | D1: TasaRecMes | E1: INPCMes | G1: ValorUMA
A2: =CONCATENATE(B3,C3) -> 20192 | B2: 2019 | C2: 1 | D2: 1.47 | E2: 103.108 | G2: 84.49
A3: =CONCATENATE(B4,C4) -> 20193 | B3: 2019 | C3: 2 | D3: 1.47 | E3: 103.079 | G3: 84.49
A4: =CONCATENATE(B5,C5) -> 20194 | B4: 2019 | C4: 3 | D4: 1.47 | E4: 103.476 | G4: 84.49
A5: =CONCATENATE(B6,C6) -> 20195 | B5: 2019 | C5: 4 | D5: 1.47 | E5: 103.531 | G5: 84.49
A6: =CONCATENATE(B7,C7) -> 20196 | B6: 2019 | C6: 5 | D6: 1.47 | E6: 103.531 | G6: 84.49
A7: =CONCATENATE(B8,C8) -> 20197 | B7: 2019 | C7: 6 | D7: 1.47 | E7: 103.531 | G7: 84.49
A8: =CONCATENATE(B9,C9) -> 20198 | B8: 2019 | C8: 7 | D8: 1.47 | E8: 103.687 | G8: 84.49
A9: =CONCATENATE(B10,C10) -> 20199 | B9: 2019 | C9: 8 | D9: 1.47 | E9: 103.687 | G9: 84.49
A10: =CONCATENATE(B11,C11) -> 201910 | B10: 2019 | C10: 9 | D10: 1.47 | E10: 103.942 | G10: 84.49
A11: =CONCATENATE(B12,C12) -> 201911 | B11: 2019 | C11: 10 | D11: 1.47 | E11: 104.503 | G11: 84.49
A12: =CONCATENATE(B13,C13) -> 201912 | B12: 2019 | C12: 11 | D12: 1.47 | E12: 105.346 | G12: 84.49
A13: =CONCATENATE(B14,C14) -> 20201 | B13: 2019 | C13: 12 | D13: 1.47 | E13: 105.934 | G13: 84.49
... A86: =CONCATENATE(B87,C87) -> 20262 | B86: 2026 | C86: 1 | D86: 1.47 | E86: 143.588 | G86: 113.14
A87: =CONCATENATE(B88,C88) -> 20263 | B87: 2026 | C87: 2 | D87: 1.47 | G87: 117.31
A88: =CONCATENATE(B89,C89) -> 20264 | B88: 2026 | C88: 3 | D88: 1.47 | G88: 117.31
A89: =CONCATENATE(B90,C90) -> 20265 | B89: 2026 | C89: 4 | D89: 1.47 | G89: 117.31
A90: =CONCATENATE(B91,C91) -> 20266 | B90: 2026 | C90: 5 | D90: 1.47 | G90: 117.31
A91: =CONCATENATE(B92,C92) -> 20267 | B91: 2026 | C91: 6 | D91: 1.47 | G91: 117.31
A92: =CONCATENATE(B93,C93) -> 20268 | B92: 2026 | C92: 7 | D92: 1.47 | G92: 117.31
A93: =CONCATENATE(B94,C94) -> 20269 | B93: 2026 | C93: 8 | D93: 1.47 | G93: 117.31
A94: =CONCATENATE(B95,C95) -> 202610 | B94: 2026 | C94: 9 | D94: 1.47 | G94: 117.31
A95: =CONCATENATE(B96,C96) -> 202611 | B95: 2026 | C95: 10 | D95: 1.47 | G95: 117.31
A96: =CONCATENATE(B97,C97) -> 202612 | B96: 2026 | C96: 11 | D96: 1.47 | G96: 117.31
B97: 2026 | C97: 12 | D97: 1.47 | G97: 117.31
